BEGIN:VCALENDAR
VERSION:2.0
PRODID:-//Plataforma Portuguesa para os Direitos das Mulheres - ECPv5.14.0.4//NONSGML v1.0//EN
CALSCALE:GREGORIAN
METHOD:PUBLISH
X-WR-CALNAME:Plataforma Portuguesa para os Direitos das Mulheres
X-ORIGINAL-URL:https://plataformamulheres.org.pt
X-WR-CALDESC:Events for Plataforma Portuguesa para os Direitos das Mulheres
BEGIN:VTIMEZONE
TZID:Europe/Lisbon
BEGIN:DAYLIGHT
TZOFFSETFROM:+0000
TZOFFSETTO:+0100
TZNAME:WEST
DTSTART:20260329T010000
END:DAYLIGHT
BEGIN:STANDARD
TZOFFSETFROM:+0100
TZOFFSETTO:+0000
TZNAME:WET
DTSTART:20261025T010000
END:STANDARD
END:VTIMEZONE
BEGIN:VEVENT
DTSTART;VALUE=DATE:20260409
DTEND;VALUE=DATE:20260501
DTSTAMP:20260422T160242
CREATED:20260409T080045Z
LAST-MODIFIED:20260409T080609Z
UID:29894-1775692800-1777593599@plataformamulheres.org.pt
SUMMARY:Concurso de poesia: «Vozes de Mulheres»
DESCRIPTION:No âmbito do salão literário Vozes de Mulheres\, o Fórum Mulheres Mediterrâneo promove um concurso de poesia dedicado ao tema «Vozes de Mulheres». Os poemas devem abordar lutas\, sonhos\, silêncios ou liberdades\, contribuindo para a reflexão e combate ao sexismo. \nPodem participar jovens com menos de 30 anos\, com um poema original até 400 palavras. \nAs candidaturas devem ser enviadas por email (em PDF\, com dados pessoais) até 30 de abril. \nA cerimónia de entrega de prémios realiza-se a 12 de maio de 2026\, em Marselha\, e inclui leitura pública para os três primeiros classificados\, além de prémios simbólicos. \n\nCONCURSO DE POESIApor ocasião do salão literário Vozes de Mulheresorganizado pelo Fórum Mulheres Mediterrâneo \nTema do concurso: «Vozes de Mulheres» \nOs poemas devem evocar: lutas\, sonhos\, silêncios ou liberdades\, de modo a contribuir para a luta contra o sexismo. \nCondições de participação: \n\nTer menos de 30 anos.\nUm poema por participante\, com um máximo de 400 palavras.\n400 palavras correspondem aproximadamente a uma página a uma página e meia\, dependendo da formatação e do tamanho da letra.\n\nModalidades de envio:Enviar o poema por email para o seguinte endereço:concoursvoixdefemmes@outlook.fr \nAssunto do email: Concurso de poesia Vozes de Mulheres \nAnexar: o poema em PDF com nome\, apelido\, idade e número de telefone + endereço de email \nData limite de envio: 30 de abril \nA entrega dos prémios terá lugar na terça-feira\, 12 de maio de 2026\, na Casa das Associações \nMorada: 93 la Canebière\, 13001 Marselha \nPrémios: \n\n1.º prémio: Um bonito presente + leitura pública\n2.º prémio: Um encantador presente + leitura pública\n3.º prémio: Um pequeno presente + leitura pública
URL:https://plataformamulheres.org.pt/evento/concurso-de-poesia-vozes-de-mulheres/
LOCATION:Forum Femmes Mediterranée\, 93 la Canebière\, Marselha\, 13001\, França
ATTACH;FMTTYPE=image/png:https://plataformamulheres.org.pt/site/wp-content/ficheiros/2026/04/ffm.png
END:VEVENT
BEGIN:VEVENT
DTSTART;TZID=Europe/Lisbon:20260421T180000
DTEND;TZID=Europe/Lisbon:20260421T193000
DTSTAMP:20260422T160242
CREATED:20260408T113640Z
LAST-MODIFIED:20260421T111429Z
UID:29879-1776794400-1776799800@plataformamulheres.org.pt
SUMMARY:Prostituição | Programas de Saída na Suécia pela voz de uma sobrevivente
DESCRIPTION:Izabella nasceu na Roménia e hoje trabalha na Talita\, uma organização que ajuda mulheres a sair da prostituição na Suécia com Programas de Saída. Ela própria passou por experiências de exploração sexual e tráfico humano\, e pelo programa de reabilitação da Talita. Depois\, estudou aconselhamento para compreender melhor os impactos do abuso sexual e as respostas ao trauma. Neste evento online\, no dia 21 de abril\, às 18h de Lisboa\, a Izabella vai partilhar a sua história pessoal e mostrar como a Talita transforma vidas através da reabilitação\, integração e prevenção. \nInscrições aqui. \nMais informações abaixo.
URL:https://plataformamulheres.org.pt/evento/prostituicao-programas-de-saida-na-suecia-pela-voz-de-uma-sobrevivente/
ATTACH;FMTTYPE=image/png:https://plataformamulheres.org.pt/site/wp-content/ficheiros/2026/04/EXIT-Programas-Saida-Talita.png
END:VEVENT
END:VCALENDAR