BEGIN:VCALENDAR
VERSION:2.0
PRODID:-//Plataforma Portuguesa para os Direitos das Mulheres - ECPv5.14.0.4//NONSGML v1.0//EN
CALSCALE:GREGORIAN
METHOD:PUBLISH
X-WR-CALNAME:Plataforma Portuguesa para os Direitos das Mulheres
X-ORIGINAL-URL:https://plataformamulheres.org.pt
X-WR-CALDESC:Events for Plataforma Portuguesa para os Direitos das Mulheres
BEGIN:VTIMEZONE
TZID:Europe/Lisbon
BEGIN:DAYLIGHT
TZOFFSETFROM:+0000
TZOFFSETTO:+0100
TZNAME:WEST
DTSTART:20260329T010000
END:DAYLIGHT
BEGIN:STANDARD
TZOFFSETFROM:+0100
TZOFFSETTO:+0000
TZNAME:WET
DTSTART:20261025T010000
END:STANDARD
END:VTIMEZONE
BEGIN:VEVENT
DTSTART;TZID=Europe/Lisbon:20260331T143000
DTEND;TZID=Europe/Lisbon:20260331T163000
DTSTAMP:20260422T205808
CREATED:20260305T102352Z
LAST-MODIFIED:20260311T115114Z
UID:29639-1774967400-1774974600@plataformamulheres.org.pt
SUMMARY:Conversa “Redes Sociais e Discurso de Ódio – Como Reconhecer\, Prevenir e Agir?”
DESCRIPTION:O evento organizado pelo EAPN e Rede DLBC\, visa a partilha de experiências e reflexões relacionadas com o tema\, de várias entidades incluindo\, a PpDM\, a Polícia Judiciária\, a ILGA\, o IAC e a Associação Rizoma. \nParticipação da PpDM: Alexandra Silva\, Coordenadora de Projetos e Investigação da PpDM \n 
URL:https://plataformamulheres.org.pt/evento/conversa-redes-sociais-e-discurso-de-odio-como-reconhecer-prevenir-e-agir/
LOCATION:Rua Gomes Freire\, 174 Lisboa
ATTACH;FMTTYPE=image/jpeg:https://plataformamulheres.org.pt/site/wp-content/ficheiros/2026/03/Discurso_de_Odio_nas_Redes_Sociais.jpg
END:VEVENT
END:VCALENDAR