BEGIN:VCALENDAR
VERSION:2.0
PRODID:-//Plataforma Portuguesa para os Direitos das Mulheres - ECPv5.14.0.4//NONSGML v1.0//EN
CALSCALE:GREGORIAN
METHOD:PUBLISH
X-WR-CALNAME:Plataforma Portuguesa para os Direitos das Mulheres
X-ORIGINAL-URL:https://plataformamulheres.org.pt
X-WR-CALDESC:Events for Plataforma Portuguesa para os Direitos das Mulheres
BEGIN:VTIMEZONE
TZID:Europe/Lisbon
BEGIN:DAYLIGHT
TZOFFSETFROM:+0000
TZOFFSETTO:+0100
TZNAME:WEST
DTSTART:20240331T010000
END:DAYLIGHT
BEGIN:STANDARD
TZOFFSETFROM:+0100
TZOFFSETTO:+0000
TZNAME:WET
DTSTART:20241027T010000
END:STANDARD
END:VTIMEZONE
BEGIN:VEVENT
DTSTART;TZID=Europe/Lisbon:20241106T090000
DTEND;TZID=Europe/Lisbon:20241107T190000
DTSTAMP:20260421T135714
CREATED:20241028T085838Z
LAST-MODIFIED:20241104T173256Z
UID:26749-1730883600-1731006000@plataformamulheres.org.pt
SUMMARY:XV CONGRESO INTERNACIONAL PARA EL ESTUDIO DE LA VIOLENCIA CONTRA LAS MUJERES
DESCRIPTION:Intervenção da PpDM a 6 de outubro\, 16h30 – 19h\, na MESA 4: Perspectivas comparadas en el abordaje de la ciberviolencia de género\n\n\n\n\n\n\nAlexandra Silva\, Plataforma Portuguesa para os Direitos das Mulheres\nMaría Soledad Romero Jiménez.  Consultora Experta en el área de GRC y Ciberseguridad en NNT DATA.\nSilvia Valmaña Ochaita. Profesora Titular de Derecho Penal de la UCLM y Directora General de Infancia\, Familia y Fomento de la Natalidad.\nDaniel Moreno Gómez. Teniente de la Guardia Civil. Jefe del EMUME Central de la Guardia Civil (Equipo Mujer-Menor).\n\n\n\nLa mesa estará moderada por Esteban Rondón\, Director General de Justicia Juvenil y Cooperación \nCongreso Internacional para el Estudio de la Violencia contra las Mujeres – Congreso Internacional Estudio de la Violencia contra las Mujeres
URL:https://plataformamulheres.org.pt/evento/xv-congreso-internacional-para-el-estudio-de-la-violencia-contra-las-mujeres/
END:VEVENT
END:VCALENDAR