BEGIN:VCALENDAR
VERSION:2.0
PRODID:-//Plataforma Portuguesa para os Direitos das Mulheres - ECPv5.14.0.4//NONSGML v1.0//EN
CALSCALE:GREGORIAN
METHOD:PUBLISH
X-WR-CALNAME:Plataforma Portuguesa para os Direitos das Mulheres
X-ORIGINAL-URL:https://plataformamulheres.org.pt
X-WR-CALDESC:Events for Plataforma Portuguesa para os Direitos das Mulheres
BEGIN:VTIMEZONE
TZID:Europe/Lisbon
BEGIN:DAYLIGHT
TZOFFSETFROM:+0000
TZOFFSETTO:+0100
TZNAME:WEST
DTSTART:20240331T010000
END:DAYLIGHT
BEGIN:STANDARD
TZOFFSETFROM:+0100
TZOFFSETTO:+0000
TZNAME:WET
DTSTART:20241027T010000
END:STANDARD
END:VTIMEZONE
BEGIN:VEVENT
DTSTART;TZID=Europe/Lisbon:20241011T140000
DTEND;TZID=Europe/Lisbon:20241011T150000
DTSTAMP:20260424T150649
CREATED:20241008T101747Z
LAST-MODIFIED:20241008T170814Z
UID:26678-1728655200-1728658800@plataformamulheres.org.pt
SUMMARY:Women in Power @ the EU | Reuniões com Eurodeputadas/os
DESCRIPTION:Reunião com o Eurodeputado João Oliveira | Grupo da Esquerda no Parlamento Europeu – GUE/NGL \nAtividade no âmbito do projeto Women in Power @ the EU – Plataforma Portuguesa para os Direitos das Mulheres (plataformamulheres.org.pt).
URL:https://plataformamulheres.org.pt/evento/women-in-power-the-eu-reunioes-com-eurodeputadas-os/
LOCATION:Gabinete de Apoio aos Deputados do PCP ao Parlamento Europeu\, Rua Soeiro Pereira Gomes\, 1A\,\, Lisboa\, 1600-196
ATTACH;FMTTYPE=image/png:https://plataformamulheres.org.pt/site/wp-content/ficheiros/2024/10/WiP_EU_Reunioes.png
END:VEVENT
END:VCALENDAR