BEGIN:VCALENDAR
VERSION:2.0
PRODID:-//Plataforma Portuguesa para os Direitos das Mulheres - ECPv5.14.0.4//NONSGML v1.0//EN
CALSCALE:GREGORIAN
METHOD:PUBLISH
X-WR-CALNAME:Plataforma Portuguesa para os Direitos das Mulheres
X-ORIGINAL-URL:https://plataformamulheres.org.pt
X-WR-CALDESC:Events for Plataforma Portuguesa para os Direitos das Mulheres
BEGIN:VTIMEZONE
TZID:Europe/Lisbon
BEGIN:DAYLIGHT
TZOFFSETFROM:+0000
TZOFFSETTO:+0100
TZNAME:WEST
DTSTART:20240331T010000
END:DAYLIGHT
BEGIN:STANDARD
TZOFFSETFROM:+0100
TZOFFSETTO:+0000
TZNAME:WET
DTSTART:20241027T010000
END:STANDARD
END:VTIMEZONE
BEGIN:VEVENT
DTSTART;TZID=Europe/Lisbon:20240911T173000
DTEND;TZID=Europe/Lisbon:20240914T183000
DTSTAMP:20260424T234127
CREATED:20240828T165701Z
LAST-MODIFIED:20240910T154121Z
UID:26507-1726075800-1726338600@plataformamulheres.org.pt
SUMMARY:Women in Power @ the EU | Formação A
DESCRIPTION:Formação A: Projeto Europeu\, Arquitetura da União Europeia (UE) – Exercer a cidadania europeia\, realizar a igualdade entre mulheres e homens. \n \n  \n  \n  \n  \n  \n  \n  \n  \n  \n  \n  \n  \n  \n  \n  \n  \n  \n  \n  \n  \n  \n  \n  \n  \n  \n  \nAcompanhe o projeto em Women in Power @ the EU. \n 
URL:https://plataformamulheres.org.pt/evento/women-in-power-the-eu-formacao-a/
END:VEVENT
END:VCALENDAR