BEGIN:VCALENDAR
VERSION:2.0
PRODID:-//Plataforma Portuguesa para os Direitos das Mulheres - ECPv5.14.0.4//NONSGML v1.0//EN
CALSCALE:GREGORIAN
METHOD:PUBLISH
X-WR-CALNAME:Plataforma Portuguesa para os Direitos das Mulheres
X-ORIGINAL-URL:https://plataformamulheres.org.pt
X-WR-CALDESC:Events for Plataforma Portuguesa para os Direitos das Mulheres
BEGIN:VTIMEZONE
TZID:Europe/Lisbon
BEGIN:DAYLIGHT
TZOFFSETFROM:+0000
TZOFFSETTO:+0100
TZNAME:WEST
DTSTART:20200329T010000
END:DAYLIGHT
BEGIN:STANDARD
TZOFFSETFROM:+0100
TZOFFSETTO:+0000
TZNAME:WET
DTSTART:20201025T010000
END:STANDARD
END:VTIMEZONE
BEGIN:VEVENT
DTSTART;TZID=Europe/Lisbon:20201026T140000
DTEND;TZID=Europe/Lisbon:20201026T170000
DTSTAMP:20260423T112645
CREATED:20200824T185020Z
LAST-MODIFIED:20201026T091915Z
UID:15892-1603720800-1603731600@plataformamulheres.org.pt
SUMMARY:Webinário Concretizar localmente a igualdade entre mulheres e homens
DESCRIPTION:No âmbito das comemorações dos 10 anos do Dia municipal para a igualdade\, a comissão organizadora da qual a Plataforma Portuguesa para os Direitos das Mulheres faz parte\, promove o webinário\, que conta com a participação de Alexandra Silva em representação da PpDM.
URL:https://plataformamulheres.org.pt/evento/webinario-dia-municipal-para-a-igualdade-2020/
ATTACH;FMTTYPE=image/jpeg:https://plataformamulheres.org.pt/site/wp-content/ficheiros/2020/08/Dia_Municipal_Igualdade.jpg
END:VEVENT
END:VCALENDAR