BEGIN:VCALENDAR
VERSION:2.0
PRODID:-//Plataforma Portuguesa para os Direitos das Mulheres - ECPv5.14.0.4//NONSGML v1.0//EN
CALSCALE:GREGORIAN
METHOD:PUBLISH
X-WR-CALNAME:Plataforma Portuguesa para os Direitos das Mulheres
X-ORIGINAL-URL:https://plataformamulheres.org.pt
X-WR-CALDESC:Events for Plataforma Portuguesa para os Direitos das Mulheres
BEGIN:VTIMEZONE
TZID:Europe/Lisbon
BEGIN:DAYLIGHT
TZOFFSETFROM:+0000
TZOFFSETTO:+0100
TZNAME:WEST
DTSTART:20220327T010000
END:DAYLIGHT
BEGIN:STANDARD
TZOFFSETFROM:+0100
TZOFFSETTO:+0000
TZNAME:WET
DTSTART:20221030T010000
END:STANDARD
END:VTIMEZONE
BEGIN:VEVENT
DTSTART;TZID=Europe/Lisbon:20220405T093000
DTEND;TZID=Europe/Lisbon:20220405T130000
DTSTAMP:20260424T143055
CREATED:20220124T152358Z
LAST-MODIFIED:20220414T114023Z
UID:19759-1649151000-1649163600@plataformamulheres.org.pt
SUMMARY:Webinário Comunidades Justa e sustentáveis têm igualdade
DESCRIPTION: 
URL:https://plataformamulheres.org.pt/evento/webinario-comunidades-justa-e-sustentaveis-tem-de-ter-igualdade/
END:VEVENT
END:VCALENDAR