BEGIN:VCALENDAR
VERSION:2.0
PRODID:-//Plataforma Portuguesa para os Direitos das Mulheres - ECPv5.14.0.4//NONSGML v1.0//EN
CALSCALE:GREGORIAN
METHOD:PUBLISH
X-WR-CALNAME:Plataforma Portuguesa para os Direitos das Mulheres
X-ORIGINAL-URL:https://plataformamulheres.org.pt
X-WR-CALDESC:Events for Plataforma Portuguesa para os Direitos das Mulheres
BEGIN:VTIMEZONE
TZID:Europe/Lisbon
BEGIN:DAYLIGHT
TZOFFSETFROM:+0000
TZOFFSETTO:+0100
TZNAME:WEST
DTSTART:20210328T010000
END:DAYLIGHT
BEGIN:STANDARD
TZOFFSETFROM:+0100
TZOFFSETTO:+0000
TZNAME:WET
DTSTART:20211031T010000
END:STANDARD
END:VTIMEZONE
BEGIN:VEVENT
DTSTART;TZID=Europe/Lisbon:20211126T100000
DTEND;TZID=Europe/Lisbon:20211126T130000
DTSTAMP:20260422T120622
CREATED:20211101T104449Z
LAST-MODIFIED:20211123T203516Z
UID:19036-1637920800-1637931600@plataformamulheres.org.pt
SUMMARY:Violência Doméstica: Estórias de desamor e vitimação múltipla
DESCRIPTION:Em Portugal\, o reconhecimento político do princípio da igualdade entre mulheres e homens tem sido acompanhado de uma significativa produção de legislação antidiscriminação e políticas de promoção de igualdade de direitos. Porém\, são ainda muito frequentes práticas quotidianas\, sociais e institucionais\, que fomentam a continuidade da desigualdade e discriminação entre mulheres e homens\, sendo esta muitas vezes aumentada por características pessoais como a origem étnica e social\, a idade\, a  orientação sexual\, a deficiência ou território de origem ou de residência\, entre outras. \nDebate online promovido pela Associação Fernão Mendes Pinto\, dinamizado por Alexandra Silva | PpDM
URL:https://plataformamulheres.org.pt/evento/violencia-domestica-estorias-de-desamor-e-vitimacao-multipla-2/
CATEGORIES:PpDM
END:VEVENT
END:VCALENDAR