BEGIN:VCALENDAR
VERSION:2.0
PRODID:-//Plataforma Portuguesa para os Direitos das Mulheres - ECPv5.14.0.4//NONSGML v1.0//EN
CALSCALE:GREGORIAN
METHOD:PUBLISH
X-WR-CALNAME:Plataforma Portuguesa para os Direitos das Mulheres
X-ORIGINAL-URL:https://plataformamulheres.org.pt
X-WR-CALDESC:Events for Plataforma Portuguesa para os Direitos das Mulheres
BEGIN:VTIMEZONE
TZID:UTC
BEGIN:STANDARD
TZOFFSETFROM:+0000
TZOFFSETTO:+0000
TZNAME:UTC
DTSTART:20190101T000000
END:STANDARD
END:VTIMEZONE
BEGIN:VEVENT
DTSTART;TZID=UTC:20190509T090000
DTEND;TZID=UTC:20190510T160000
DTSTAMP:20260423T161450
CREATED:20190421T230542Z
LAST-MODIFIED:20191226T112003Z
UID:12256-1557392400-1557504000@plataformamulheres.org.pt
SUMMARY:Seminário de capacitação sobre orçamentos sensíveis ao género
DESCRIPTION:Ana Sofia Fernandes será oradora apresentando o projeto-piloto promovido pelo Governo Português em 2018 sobre orçamento sensíveis ao género e no qual a PpDM trabalhou. \nCapacity building seminar no âmbito do grupo de trabalho de peritas do Lobby Europeu das Mulheres\, dirigido às peritas dos restantes países e membros do grupo de trabalho de economia feminista e do Observatório contra a violência do LEM.
URL:https://plataformamulheres.org.pt/evento/seminario-de-capacitacao-sobre-orcamento-sensiveis-ao-genero/
LOCATION:Helsinquia
CATEGORIES:PpDM
ATTACH;FMTTYPE=image/jpeg:https://plataformamulheres.org.pt/site/wp-content/ficheiros/2018/05/Forum-Mulheres-7junho2018.jpg
END:VEVENT
END:VCALENDAR