BEGIN:VCALENDAR
VERSION:2.0
PRODID:-//Plataforma Portuguesa para os Direitos das Mulheres - ECPv5.14.0.4//NONSGML v1.0//EN
CALSCALE:GREGORIAN
METHOD:PUBLISH
X-WR-CALNAME:Plataforma Portuguesa para os Direitos das Mulheres
X-ORIGINAL-URL:https://plataformamulheres.org.pt
X-WR-CALDESC:Events for Plataforma Portuguesa para os Direitos das Mulheres
BEGIN:VTIMEZONE
TZID:Europe/Lisbon
BEGIN:DAYLIGHT
TZOFFSETFROM:+0000
TZOFFSETTO:+0100
TZNAME:WEST
DTSTART:20240331T010000
END:DAYLIGHT
BEGIN:STANDARD
TZOFFSETFROM:+0100
TZOFFSETTO:+0000
TZNAME:WET
DTSTART:20241027T010000
END:STANDARD
END:VTIMEZONE
BEGIN:VEVENT
DTSTART;VALUE=DATE:20241017
DTEND;VALUE=DATE:20241019
DTSTAMP:20260424T102931
CREATED:20240828T155636Z
LAST-MODIFIED:20241008T145627Z
UID:26504-1729123200-1729295999@plataformamulheres.org.pt
SUMMARY:LEM | Reuniões dos GT e Task Force
DESCRIPTION:Conta com a participação de Ana Sofia Fernandes\, presidente da PpDM\, Alexandra Silva\, coordenadora de projetos\, e Diana Pinto\, técnica de projetos.
URL:https://plataformamulheres.org.pt/evento/reunioes-dos-grupos-de-trabalho-tematicos-do-lobby-europeu-das-mulheres-lem/
ATTACH;FMTTYPE=image/png:https://plataformamulheres.org.pt/site/wp-content/ficheiros/2015/06/lem-logo.png
END:VEVENT
END:VCALENDAR