BEGIN:VCALENDAR
VERSION:2.0
PRODID:-//Plataforma Portuguesa para os Direitos das Mulheres - ECPv5.14.0.4//NONSGML v1.0//EN
CALSCALE:GREGORIAN
METHOD:PUBLISH
X-WR-CALNAME:Plataforma Portuguesa para os Direitos das Mulheres
X-ORIGINAL-URL:https://plataformamulheres.org.pt
X-WR-CALDESC:Events for Plataforma Portuguesa para os Direitos das Mulheres
BEGIN:VTIMEZONE
TZID:Europe/Lisbon
BEGIN:DAYLIGHT
TZOFFSETFROM:+0000
TZOFFSETTO:+0100
TZNAME:WEST
DTSTART:20260329T010000
END:DAYLIGHT
BEGIN:STANDARD
TZOFFSETFROM:+0100
TZOFFSETTO:+0000
TZNAME:WET
DTSTART:20261025T010000
END:STANDARD
END:VTIMEZONE
BEGIN:VEVENT
DTSTART;TZID=Europe/Lisbon:20260422T133000
DTEND;TZID=Europe/Lisbon:20260422T143000
DTSTAMP:20260422T144108
CREATED:20260422T092752Z
LAST-MODIFIED:20260422T092814Z
UID:29963-1776864600-1776868200@plataformamulheres.org.pt
SUMMARY:Reunião no âmbito da Coligação pelo Fim da Ciberviolência contra Mulheres e Raparigas
DESCRIPTION:
URL:https://plataformamulheres.org.pt/evento/reuniao-no-ambito-da-coligacao-pelo-fim-da-ciberviolencia-contra-mulheres-e-raparigas/
END:VEVENT
END:VCALENDAR