BEGIN:VCALENDAR
VERSION:2.0
PRODID:-//Plataforma Portuguesa para os Direitos das Mulheres - ECPv5.14.0.4//NONSGML v1.0//EN
CALSCALE:GREGORIAN
METHOD:PUBLISH
X-WR-CALNAME:Plataforma Portuguesa para os Direitos das Mulheres
X-ORIGINAL-URL:https://plataformamulheres.org.pt
X-WR-CALDESC:Events for Plataforma Portuguesa para os Direitos das Mulheres
BEGIN:VTIMEZONE
TZID:UTC
BEGIN:STANDARD
TZOFFSETFROM:+0000
TZOFFSETTO:+0000
TZNAME:UTC
DTSTART:20190101T000000
END:STANDARD
END:VTIMEZONE
BEGIN:VEVENT
DTSTART;TZID=UTC:20190301T110000
DTEND;TZID=UTC:20190301T130000
DTSTAMP:20260422T113918
CREATED:20190302T171251Z
LAST-MODIFIED:20190302T171251Z
UID:12222-1551438000-1551445200@plataformamulheres.org.pt
SUMMARY:Reunião extraordinária do CC CIG
DESCRIPTION:Participam de Ana Sofia Fernandes\, Alexandra Silva e Margarida Teixeira em representação da PpDM.
URL:https://plataformamulheres.org.pt/evento/reuniao-extraordinaria-do-cc-cig-3/
LOCATION:Auditório das Águas de Portugal\, Lisboa
CATEGORIES:PpDM
ATTACH;FMTTYPE=image/jpeg:https://plataformamulheres.org.pt/site/wp-content/ficheiros/2019/03/reufb.jpg
END:VEVENT
END:VCALENDAR