BEGIN:VCALENDAR
VERSION:2.0
PRODID:-//Plataforma Portuguesa para os Direitos das Mulheres - ECPv5.14.0.4//NONSGML v1.0//EN
CALSCALE:GREGORIAN
METHOD:PUBLISH
X-WR-CALNAME:Plataforma Portuguesa para os Direitos das Mulheres
X-ORIGINAL-URL:https://plataformamulheres.org.pt
X-WR-CALDESC:Events for Plataforma Portuguesa para os Direitos das Mulheres
BEGIN:VTIMEZONE
TZID:Europe/Lisbon
BEGIN:DAYLIGHT
TZOFFSETFROM:+0000
TZOFFSETTO:+0100
TZNAME:WEST
DTSTART:20200329T010000
END:DAYLIGHT
BEGIN:STANDARD
TZOFFSETFROM:+0100
TZOFFSETTO:+0000
TZNAME:WET
DTSTART:20201025T010000
END:STANDARD
END:VTIMEZONE
BEGIN:VEVENT
DTSTART;TZID=Europe/Lisbon:20201027T143000
DTEND;TZID=Europe/Lisbon:20201027T163000
DTSTAMP:20260423T174147
CREATED:20201013T140908Z
LAST-MODIFIED:20201013T140908Z
UID:16231-1603809000-1603816200@plataformamulheres.org.pt
SUMMARY:Reunião do Fórum da Sociedade Civil para os ODS
DESCRIPTION:
URL:https://plataformamulheres.org.pt/evento/reuniao-do-forum-da-sociedade-civil-para-os-ods-4/
END:VEVENT
END:VCALENDAR