BEGIN:VCALENDAR
VERSION:2.0
PRODID:-//Plataforma Portuguesa para os Direitos das Mulheres - ECPv5.14.0.4//NONSGML v1.0//EN
CALSCALE:GREGORIAN
METHOD:PUBLISH
X-WR-CALNAME:Plataforma Portuguesa para os Direitos das Mulheres
X-ORIGINAL-URL:https://plataformamulheres.org.pt
X-WR-CALDESC:Events for Plataforma Portuguesa para os Direitos das Mulheres
BEGIN:VTIMEZONE
TZID:Europe/Lisbon
BEGIN:DAYLIGHT
TZOFFSETFROM:+0000
TZOFFSETTO:+0100
TZNAME:WEST
DTSTART:20260329T010000
END:DAYLIGHT
BEGIN:STANDARD
TZOFFSETFROM:+0100
TZOFFSETTO:+0000
TZNAME:WET
DTSTART:20261025T010000
END:STANDARD
END:VTIMEZONE
BEGIN:VEVENT
DTSTART;TZID=Europe/Lisbon:20260413T113000
DTEND;TZID=Europe/Lisbon:20260413T123000
DTSTAMP:20260419T211157
CREATED:20260410T090105Z
LAST-MODIFIED:20260410T090105Z
UID:29903-1776079800-1776083400@plataformamulheres.org.pt
SUMMARY:Reunião com AIESEC
DESCRIPTION:A AIESEC é uma organização internacional jovem presente em mais de 100 países\, focada no desenvolvimento de liderança\ne na promoção de impacto positivo através de experiências internacionais. A reunião entre a AIESEC e a PpDM tem como proprósito explorar possíveis vias de cooperação no âmbito do programa Global Volunteer\, que conecta jovens voluntários internacionais com organizações e instituições locais\, permitindo o desenvolvimento de iniciativas com impacto social alinhadas com os Objetivos de Desenvolvimento Sustentável.
URL:https://plataformamulheres.org.pt/evento/reuniao-com-aiesec/
END:VEVENT
END:VCALENDAR