BEGIN:VCALENDAR
VERSION:2.0
PRODID:-//Plataforma Portuguesa para os Direitos das Mulheres - ECPv5.14.0.4//NONSGML v1.0//EN
CALSCALE:GREGORIAN
METHOD:PUBLISH
X-WR-CALNAME:Plataforma Portuguesa para os Direitos das Mulheres
X-ORIGINAL-URL:https://plataformamulheres.org.pt
X-WR-CALDESC:Events for Plataforma Portuguesa para os Direitos das Mulheres
BEGIN:VTIMEZONE
TZID:UTC
BEGIN:STANDARD
TZOFFSETFROM:+0000
TZOFFSETTO:+0000
TZNAME:UTC
DTSTART:20180101T000000
END:STANDARD
END:VTIMEZONE
BEGIN:VEVENT
DTSTART;TZID=UTC:20181113T203000
DTEND;TZID=UTC:20181113T230000
DTSTAMP:20260423T161158
CREATED:20181113T172455Z
LAST-MODIFIED:20181113T172631Z
UID:9998-1542141000-1542150000@plataformamulheres.org.pt
SUMMARY:Prostituição: impacto social
DESCRIPTION:
URL:https://plataformamulheres.org.pt/evento/prostituicao-impacto-social/
LOCATION:Escola Secundária Maria Amália Vaz de Carvalho\, R. Rodrigo da Fonseca 115\, Lisboa\, 1099-069\, Portugal
CATEGORIES:PpDM
ATTACH;FMTTYPE=image/jpeg:https://plataformamulheres.org.pt/site/wp-content/ficheiros/2018/11/Ouvi_na_Freguesia_Cartaz_.jpg
END:VEVENT
END:VCALENDAR