BEGIN:VCALENDAR
VERSION:2.0
PRODID:-//Plataforma Portuguesa para os Direitos das Mulheres - ECPv5.14.0.4//NONSGML v1.0//EN
CALSCALE:GREGORIAN
METHOD:PUBLISH
X-WR-CALNAME:Plataforma Portuguesa para os Direitos das Mulheres
X-ORIGINAL-URL:https://plataformamulheres.org.pt
X-WR-CALDESC:Events for Plataforma Portuguesa para os Direitos das Mulheres
BEGIN:VTIMEZONE
TZID:UTC
BEGIN:STANDARD
TZOFFSETFROM:+0000
TZOFFSETTO:+0000
TZNAME:UTC
DTSTART:20180101T000000
END:STANDARD
END:VTIMEZONE
BEGIN:VEVENT
DTSTART;TZID=UTC:20181123T103000
DTEND;TZID=UTC:20181123T120000
DTSTAMP:20260423T145505
CREATED:20190101T164032Z
LAST-MODIFIED:20190101T164307Z
UID:10189-1542969000-1542974400@plataformamulheres.org.pt
SUMMARY:PpDM/FCF - Reunião com AR
DESCRIPTION:
URL:https://plataformamulheres.org.pt/evento/ppdmfcf-reuniao-com-ar/
LOCATION:Assembleia da República\, Portugal
CATEGORIES:Organizações-Membro,PpDM
END:VEVENT
END:VCALENDAR