BEGIN:VCALENDAR
VERSION:2.0
PRODID:-//Plataforma Portuguesa para os Direitos das Mulheres - ECPv5.14.0.4//NONSGML v1.0//EN
CALSCALE:GREGORIAN
METHOD:PUBLISH
X-WR-CALNAME:Plataforma Portuguesa para os Direitos das Mulheres
X-ORIGINAL-URL:https://plataformamulheres.org.pt
X-WR-CALDESC:Events for Plataforma Portuguesa para os Direitos das Mulheres
BEGIN:VTIMEZONE
TZID:UTC
BEGIN:STANDARD
TZOFFSETFROM:+0000
TZOFFSETTO:+0000
TZNAME:UTC
DTSTART:20180101T000000
END:STANDARD
END:VTIMEZONE
BEGIN:VEVENT
DTSTART;TZID=UTC:20181228T110000
DTEND;TZID=UTC:20181228T120000
DTSTAMP:20260421T090539
CREATED:20181223T223453Z
LAST-MODIFIED:20190101T131405Z
UID:10139-1545994800-1545998400@plataformamulheres.org.pt
SUMMARY:PpDM: Reunião com SECI
DESCRIPTION:
URL:https://plataformamulheres.org.pt/evento/ppdm-reuniao-com-seci-3/
LOCATION:Presidência do Conselho de Ministros\, Rua Prof. Gomes Teixeira\, n.º 2\, r/c \,  Lisboa\, 1399-022\, Portugal
CATEGORIES:PpDM
ATTACH;FMTTYPE=image/jpeg:https://plataformamulheres.org.pt/site/wp-content/ficheiros/2017/06/Picture1-e1498046088782.jpg
END:VEVENT
END:VCALENDAR