BEGIN:VCALENDAR
VERSION:2.0
PRODID:-//Plataforma Portuguesa para os Direitos das Mulheres - ECPv5.14.0.4//NONSGML v1.0//EN
CALSCALE:GREGORIAN
METHOD:PUBLISH
X-WR-CALNAME:Plataforma Portuguesa para os Direitos das Mulheres
X-ORIGINAL-URL:https://plataformamulheres.org.pt
X-WR-CALDESC:Events for Plataforma Portuguesa para os Direitos das Mulheres
BEGIN:VTIMEZONE
TZID:Europe/Lisbon
BEGIN:DAYLIGHT
TZOFFSETFROM:+0000
TZOFFSETTO:+0100
TZNAME:WEST
DTSTART:20220327T010000
END:DAYLIGHT
BEGIN:STANDARD
TZOFFSETFROM:+0100
TZOFFSETTO:+0000
TZNAME:WET
DTSTART:20221030T010000
END:STANDARD
END:VTIMEZONE
BEGIN:VEVENT
DTSTART;TZID=Europe/Lisbon:20220331T143000
DTEND;TZID=Europe/Lisbon:20220331T170000
DTSTAMP:20260424T124248
CREATED:20220321T172643Z
LAST-MODIFIED:20220321T172845Z
UID:20258-1648737000-1648746000@plataformamulheres.org.pt
SUMMARY:Plenário CES
DESCRIPTION:Participação de Ana Sofia Fernandes.
URL:https://plataformamulheres.org.pt/evento/plenario-ces-2/
ATTACH;FMTTYPE=image/png:https://plataformamulheres.org.pt/site/wp-content/ficheiros/2018/10/ces.png
END:VEVENT
END:VCALENDAR