BEGIN:VCALENDAR
VERSION:2.0
PRODID:-//Plataforma Portuguesa para os Direitos das Mulheres - ECPv5.14.0.4//NONSGML v1.0//EN
CALSCALE:GREGORIAN
METHOD:PUBLISH
X-WR-CALNAME:Plataforma Portuguesa para os Direitos das Mulheres
X-ORIGINAL-URL:https://plataformamulheres.org.pt
X-WR-CALDESC:Events for Plataforma Portuguesa para os Direitos das Mulheres
BEGIN:VTIMEZONE
TZID:Europe/Lisbon
BEGIN:DAYLIGHT
TZOFFSETFROM:+0000
TZOFFSETTO:+0100
TZNAME:WEST
DTSTART:20240331T010000
END:DAYLIGHT
BEGIN:STANDARD
TZOFFSETFROM:+0100
TZOFFSETTO:+0000
TZNAME:WET
DTSTART:20241027T010000
END:STANDARD
END:VTIMEZONE
BEGIN:VEVENT
DTSTART;TZID=Europe/Lisbon:20241017T110000
DTEND;TZID=Europe/Lisbon:20241017T130000
DTSTAMP:20260424T085708
CREATED:20241008T095839Z
LAST-MODIFIED:20241008T095839Z
UID:26672-1729162800-1729170000@plataformamulheres.org.pt
SUMMARY:P de Potência | Reunião com AIMA
DESCRIPTION:
URL:https://plataformamulheres.org.pt/evento/p-de-potencia-reuniao-com-aima/
LOCATION:Casa das Associações – Centro Maria Alzira Lemos\, Parque do Alvito\, Monsanto\, Lisboa\, 1300-054\, Portugal
ATTACH;FMTTYPE=image/jpeg:https://plataformamulheres.org.pt/site/wp-content/ficheiros/2024/10/unnamed.jpg
END:VEVENT
END:VCALENDAR