BEGIN:VCALENDAR
VERSION:2.0
PRODID:-//Plataforma Portuguesa para os Direitos das Mulheres - ECPv5.14.0.4//NONSGML v1.0//EN
CALSCALE:GREGORIAN
METHOD:PUBLISH
X-WR-CALNAME:Plataforma Portuguesa para os Direitos das Mulheres
X-ORIGINAL-URL:https://plataformamulheres.org.pt
X-WR-CALDESC:Events for Plataforma Portuguesa para os Direitos das Mulheres
BEGIN:VTIMEZONE
TZID:Europe/Lisbon
BEGIN:DAYLIGHT
TZOFFSETFROM:+0000
TZOFFSETTO:+0100
TZNAME:WEST
DTSTART:20240331T010000
END:DAYLIGHT
BEGIN:STANDARD
TZOFFSETFROM:+0100
TZOFFSETTO:+0000
TZNAME:WET
DTSTART:20241027T010000
END:STANDARD
END:VTIMEZONE
BEGIN:VEVENT
DTSTART;TZID=Europe/Lisbon:20241029T140000
DTEND;TZID=Europe/Lisbon:20241029T150000
DTSTAMP:20260423T194004
CREATED:20241021T093402Z
LAST-MODIFIED:20241021T093402Z
UID:26731-1730210400-1730214000@plataformamulheres.org.pt
SUMMARY:OE 2025 - Audição na SIND da Assembleia da República
DESCRIPTION:
URL:https://plataformamulheres.org.pt/evento/oe-2025-audicao-na-sind-da-assembleia-da-republica/
LOCATION:Assembleia da República\, Portugal
ATTACH;FMTTYPE=image/jpeg:https://plataformamulheres.org.pt/site/wp-content/ficheiros/2019/01/assembleia-republica.jpg
END:VEVENT
END:VCALENDAR