BEGIN:VCALENDAR
VERSION:2.0
PRODID:-//Plataforma Portuguesa para os Direitos das Mulheres - ECPv5.14.0.4//NONSGML v1.0//EN
CALSCALE:GREGORIAN
METHOD:PUBLISH
X-WR-CALNAME:Plataforma Portuguesa para os Direitos das Mulheres
X-ORIGINAL-URL:https://plataformamulheres.org.pt
X-WR-CALDESC:Events for Plataforma Portuguesa para os Direitos das Mulheres
BEGIN:VTIMEZONE
TZID:UTC
BEGIN:STANDARD
TZOFFSETFROM:+0000
TZOFFSETTO:+0000
TZNAME:UTC
DTSTART:20180101T000000
END:STANDARD
END:VTIMEZONE
BEGIN:VEVENT
DTSTART;TZID=UTC:20180803T080000
DTEND;TZID=UTC:20180805T170000
DTSTAMP:20260419T213104
CREATED:20180726T082156Z
LAST-MODIFIED:20180726T082156Z
UID:9620-1533283200-1533488400@plataformamulheres.org.pt
SUMMARY:Mulheres Sem Fronteiras & REDE: Formação Inicial em Teatro Fórum
DESCRIPTION:Inscrições: gratuitas\, mas limitadas às vagas existentes até 31 de julho de 2018 aqui. \nDatas: 03/08/2018 das 15:30 às 19:00 e 04/08/2018 e 05/08/2018 das 10:00 às 17:30 \nDestinatárias: a partir dos 16 anos \n\n\nCurso não misto | Almoço Incluído | Atribuição de Certificado\n\n\nNesta formação\, as participantes aprendem os conceitos e princípios que se encontram na base do Teatro da/o Oprimida/o\, aplicando-os através da experimentação da técnica do teatro fórum. Ao longo da formação as participantes adquirem as competências necessárias para utilização desta ferramenta de discussão e transformação social em comunidade. \nFormação no Âmbito do Projeto Bensaúde Faço (p)Arte\, financiado pelo Programa BIP/ZIP Lisboa 2017 – Parcerias Locais\n\nProjeto promovido pela Associação Mulheres sem Fronteiras em parceria com Madalenas Lisboa\, LX Yarnies e REDE de Jovens para a Igualdade com o apoio da Junta de Freguesia dos Olivais.
URL:https://plataformamulheres.org.pt/evento/mulheres-sem-fronteiras-rede-formacao-inicial-em-teatro-forum/
CATEGORIES:Organizações-Membro
ATTACH;FMTTYPE=image/jpeg:https://plataformamulheres.org.pt/site/wp-content/ficheiros/2018/07/IMG_5423.jpg
END:VEVENT
END:VCALENDAR