BEGIN:VCALENDAR
VERSION:2.0
PRODID:-//Plataforma Portuguesa para os Direitos das Mulheres - ECPv5.14.0.4//NONSGML v1.0//EN
CALSCALE:GREGORIAN
METHOD:PUBLISH
X-WR-CALNAME:Plataforma Portuguesa para os Direitos das Mulheres
X-ORIGINAL-URL:https://plataformamulheres.org.pt
X-WR-CALDESC:Events for Plataforma Portuguesa para os Direitos das Mulheres
BEGIN:VTIMEZONE
TZID:Europe/Lisbon
BEGIN:DAYLIGHT
TZOFFSETFROM:+0000
TZOFFSETTO:+0100
TZNAME:WEST
DTSTART:20210328T010000
END:DAYLIGHT
BEGIN:STANDARD
TZOFFSETFROM:+0100
TZOFFSETTO:+0000
TZNAME:WET
DTSTART:20211031T010000
END:STANDARD
END:VTIMEZONE
BEGIN:VEVENT
DTSTART;TZID=Europe/Lisbon:20211206T143000
DTEND;TZID=Europe/Lisbon:20211206T173000
DTSTAMP:20260423T095500
CREATED:20211105T181942Z
LAST-MODIFIED:20211118T100552Z
UID:19075-1638801000-1638811800@plataformamulheres.org.pt
SUMMARY:Mobiliza-te Contra o Sexismo
DESCRIPTION:Autarquias
URL:https://plataformamulheres.org.pt/evento/mobiliza-te-contra-o-sexismo/
CATEGORIES:PpDM
END:VEVENT
END:VCALENDAR