BEGIN:VCALENDAR
VERSION:2.0
PRODID:-//Plataforma Portuguesa para os Direitos das Mulheres - ECPv5.14.0.4//NONSGML v1.0//EN
CALSCALE:GREGORIAN
METHOD:PUBLISH
X-WR-CALNAME:Plataforma Portuguesa para os Direitos das Mulheres
X-ORIGINAL-URL:https://plataformamulheres.org.pt
X-WR-CALDESC:Events for Plataforma Portuguesa para os Direitos das Mulheres
BEGIN:VTIMEZONE
TZID:Europe/Lisbon
BEGIN:DAYLIGHT
TZOFFSETFROM:+0000
TZOFFSETTO:+0100
TZNAME:WEST
DTSTART:20190331T010000
END:DAYLIGHT
BEGIN:STANDARD
TZOFFSETFROM:+0100
TZOFFSETTO:+0000
TZNAME:WET
DTSTART:20191027T010000
END:STANDARD
END:VTIMEZONE
BEGIN:VEVENT
DTSTART;VALUE=DATE:20191201
DTEND;VALUE=DATE:20191202
DTSTAMP:20260422T113524
CREATED:20191205T182759Z
LAST-MODIFIED:20191205T182810Z
UID:14560-1575158400-1575244799@plataformamulheres.org.pt
SUMMARY:Mén Non | AG
DESCRIPTION:
URL:https://plataformamulheres.org.pt/evento/men-non-ag/
LOCATION:Casa das Associações – Centro Maria Alzira Lemos\, Parque do Alvito\, Monsanto\, Lisboa\, 1300-054\, Portugal
CATEGORIES:Organizações-Membro
END:VEVENT
END:VCALENDAR