BEGIN:VCALENDAR
VERSION:2.0
PRODID:-//Plataforma Portuguesa para os Direitos das Mulheres - ECPv5.14.0.4//NONSGML v1.0//EN
CALSCALE:GREGORIAN
METHOD:PUBLISH
X-WR-CALNAME:Plataforma Portuguesa para os Direitos das Mulheres
X-ORIGINAL-URL:https://plataformamulheres.org.pt
X-WR-CALDESC:Events for Plataforma Portuguesa para os Direitos das Mulheres
BEGIN:VTIMEZONE
TZID:UTC
BEGIN:STANDARD
TZOFFSETFROM:+0000
TZOFFSETTO:+0000
TZNAME:UTC
DTSTART:20180101T000000
END:STANDARD
END:VTIMEZONE
BEGIN:VEVENT
DTSTART;TZID=UTC:20180904T143000
DTEND;TZID=UTC:20180904T153000
DTSTAMP:20260419T175839
CREATED:20190101T222119Z
LAST-MODIFIED:20190715T154739Z
UID:11503-1536071400-1536075000@plataformamulheres.org.pt
SUMMARY:LEM: reunião com Vĕra Jourová
DESCRIPTION:
URL:https://plataformamulheres.org.pt/evento/lem-reuniao-com-vera-jourova-2/
LOCATION:Bruxelas\, Belgium
CATEGORIES:PpDM
END:VEVENT
END:VCALENDAR