BEGIN:VCALENDAR
VERSION:2.0
PRODID:-//Plataforma Portuguesa para os Direitos das Mulheres - ECPv5.14.0.4//NONSGML v1.0//EN
CALSCALE:GREGORIAN
METHOD:PUBLISH
X-WR-CALNAME:Plataforma Portuguesa para os Direitos das Mulheres
X-ORIGINAL-URL:https://plataformamulheres.org.pt
X-WR-CALDESC:Events for Plataforma Portuguesa para os Direitos das Mulheres
BEGIN:VTIMEZONE
TZID:Europe/Lisbon
BEGIN:DAYLIGHT
TZOFFSETFROM:+0000
TZOFFSETTO:+0100
TZNAME:WEST
DTSTART:20220327T010000
END:DAYLIGHT
BEGIN:STANDARD
TZOFFSETFROM:+0100
TZOFFSETTO:+0000
TZNAME:WET
DTSTART:20221030T010000
END:STANDARD
END:VTIMEZONE
BEGIN:VEVENT
DTSTART;TZID=Europe/Lisbon:20220331T140000
DTEND;TZID=Europe/Lisbon:20220331T170000
DTSTAMP:20260424T111537
CREATED:20220225T192933Z
LAST-MODIFIED:20220327T172606Z
UID:20049-1648735200-1648746000@plataformamulheres.org.pt
SUMMARY:8M2022 | Interseções: Oficina com ONGD
DESCRIPTION:
URL:https://plataformamulheres.org.pt/evento/intersecoes-oficina-com-ongd/
ATTACH;FMTTYPE=image/png:https://plataformamulheres.org.pt/site/wp-content/ficheiros/2022/02/intersecoes-1.png
END:VEVENT
END:VCALENDAR