BEGIN:VCALENDAR
VERSION:2.0
PRODID:-//Plataforma Portuguesa para os Direitos das Mulheres - ECPv5.14.0.4//NONSGML v1.0//EN
CALSCALE:GREGORIAN
METHOD:PUBLISH
X-WR-CALNAME:Plataforma Portuguesa para os Direitos das Mulheres
X-ORIGINAL-URL:https://plataformamulheres.org.pt
X-WR-CALDESC:Events for Plataforma Portuguesa para os Direitos das Mulheres
BEGIN:VTIMEZONE
TZID:Europe/Lisbon
BEGIN:DAYLIGHT
TZOFFSETFROM:+0000
TZOFFSETTO:+0100
TZNAME:WEST
DTSTART:20260329T010000
END:DAYLIGHT
BEGIN:STANDARD
TZOFFSETFROM:+0100
TZOFFSETTO:+0000
TZNAME:WET
DTSTART:20261025T010000
END:STANDARD
END:VTIMEZONE
BEGIN:VEVENT
DTSTART;TZID=Europe/Lisbon:20260221T080000
DTEND;TZID=Europe/Lisbon:20260222T170000
DTSTAMP:20260423T143048
CREATED:20260130T112855Z
LAST-MODIFIED:20260130T112855Z
UID:29415-1771660800-1771779600@plataformamulheres.org.pt
SUMMARY:Instituto 8 de Março - Working weekend
DESCRIPTION:A PpDM foi convidada a participar num seminário internacional promovido pelo Instituto 8 de Março\, que terá lugar entre os dias 21 e 22 de fevereiro\, em Ljubljana. O seminário é centrado na partilha de conhecimento\, metodologias e boas práticas em torno da redefinição legal do crime de violação e da violência sexual\, com base no modelo de consentimento afirmativo (“Yes Means Yes”). O encontro contará com contributos de juristas e profissionais que participaram em processos legislativos anteriores\, bem como com a partilha das experiências da Eslovénia e da Croácia\, incluindo a campanha desenvolvida na Eslovénia\, entre 2019 e 2021\, que conduziu a uma alteração legislativa aprovada com amplo consenso parlamentar. \nA PpDM estará represenrada por Alexandra Silva\, Coordenadora de projetos\, Clara Pelote\, Técnica de projetos e investigação\, Marta Xavier\, Técnica de projetos e jurista e Márcia Branco\, membro da Associação Democrática da Defesa dos Interesses e Igualdade das Mulheres (ADDIM).
URL:https://plataformamulheres.org.pt/evento/instituto-8-de-marco-working-weekend/
END:VEVENT
END:VCALENDAR