BEGIN:VCALENDAR
VERSION:2.0
PRODID:-//Plataforma Portuguesa para os Direitos das Mulheres - ECPv5.14.0.4//NONSGML v1.0//EN
CALSCALE:GREGORIAN
METHOD:PUBLISH
X-WR-CALNAME:Plataforma Portuguesa para os Direitos das Mulheres
X-ORIGINAL-URL:https://plataformamulheres.org.pt
X-WR-CALDESC:Events for Plataforma Portuguesa para os Direitos das Mulheres
BEGIN:VTIMEZONE
TZID:UTC
BEGIN:STANDARD
TZOFFSETFROM:+0000
TZOFFSETTO:+0000
TZNAME:UTC
DTSTART:20180101T000000
END:STANDARD
END:VTIMEZONE
BEGIN:VEVENT
DTSTART;TZID=UTC:20180903T093000
DTEND;TZID=UTC:20180905T173000
DTSTAMP:20260419T180739
CREATED:20180902T085637Z
LAST-MODIFIED:20180902T085637Z
UID:9665-1535967000-1536168600@plataformamulheres.org.pt
SUMMARY:Formação Orçamento com impacto de género
DESCRIPTION:
URL:https://plataformamulheres.org.pt/evento/formacao-orcamento-com-impacto-de-genero/
CATEGORIES:PpDM
END:VEVENT
END:VCALENDAR