BEGIN:VCALENDAR
VERSION:2.0
PRODID:-//Plataforma Portuguesa para os Direitos das Mulheres - ECPv5.14.0.4//NONSGML v1.0//EN
CALSCALE:GREGORIAN
METHOD:PUBLISH
X-WR-CALNAME:Plataforma Portuguesa para os Direitos das Mulheres
X-ORIGINAL-URL:https://plataformamulheres.org.pt
X-WR-CALDESC:Events for Plataforma Portuguesa para os Direitos das Mulheres
BEGIN:VTIMEZONE
TZID:Europe/Lisbon
BEGIN:DAYLIGHT
TZOFFSETFROM:+0000
TZOFFSETTO:+0100
TZNAME:WEST
DTSTART:20200329T010000
END:DAYLIGHT
BEGIN:STANDARD
TZOFFSETFROM:+0100
TZOFFSETTO:+0000
TZNAME:WET
DTSTART:20201025T010000
END:STANDARD
END:VTIMEZONE
BEGIN:VEVENT
DTSTART;TZID=Europe/Lisbon:20201211T113000
DTEND;TZID=Europe/Lisbon:20201211T130000
DTSTAMP:20260422T113734
CREATED:20201211T143716Z
LAST-MODIFIED:20201211T143716Z
UID:16898-1607686200-1607691600@plataformamulheres.org.pt
SUMMARY:EXIT: Reunião de equipa
DESCRIPTION:
URL:https://plataformamulheres.org.pt/evento/exit-reuniao-de-equipa/
CATEGORIES:PpDM
END:VEVENT
END:VCALENDAR