BEGIN:VCALENDAR
VERSION:2.0
PRODID:-//Plataforma Portuguesa para os Direitos das Mulheres - ECPv5.14.0.4//NONSGML v1.0//EN
CALSCALE:GREGORIAN
METHOD:PUBLISH
X-WR-CALNAME:Plataforma Portuguesa para os Direitos das Mulheres
X-ORIGINAL-URL:https://plataformamulheres.org.pt
X-WR-CALDESC:Events for Plataforma Portuguesa para os Direitos das Mulheres
BEGIN:VTIMEZONE
TZID:Europe/Lisbon
BEGIN:DAYLIGHT
TZOFFSETFROM:+0000
TZOFFSETTO:+0100
TZNAME:WEST
DTSTART:20200329T010000
END:DAYLIGHT
BEGIN:STANDARD
TZOFFSETFROM:+0100
TZOFFSETTO:+0000
TZNAME:WET
DTSTART:20201025T010000
END:STANDARD
END:VTIMEZONE
BEGIN:VEVENT
DTSTART;TZID=Europe/Lisbon:20201211T180000
DTEND;TZID=Europe/Lisbon:20201211T193000
DTSTAMP:20260422T151040
CREATED:20201209T143707Z
LAST-MODIFIED:20201209T143707Z
UID:16872-1607709600-1607715000@plataformamulheres.org.pt
SUMMARY:EXIT: Ação de conscientização sobre o sistema da prostituição
DESCRIPTION:
URL:https://plataformamulheres.org.pt/evento/exit-acao-de-conscientizacao-sobre-o-sistema-da-prostituicao/
LOCATION:Online
END:VEVENT
END:VCALENDAR