BEGIN:VCALENDAR
VERSION:2.0
PRODID:-//Plataforma Portuguesa para os Direitos das Mulheres - ECPv5.14.0.4//NONSGML v1.0//EN
CALSCALE:GREGORIAN
METHOD:PUBLISH
X-WR-CALNAME:Plataforma Portuguesa para os Direitos das Mulheres
X-ORIGINAL-URL:https://plataformamulheres.org.pt
X-WR-CALDESC:Events for Plataforma Portuguesa para os Direitos das Mulheres
BEGIN:VTIMEZONE
TZID:Europe/Lisbon
BEGIN:DAYLIGHT
TZOFFSETFROM:+0000
TZOFFSETTO:+0100
TZNAME:WEST
DTSTART:20240331T010000
END:DAYLIGHT
BEGIN:STANDARD
TZOFFSETFROM:+0100
TZOFFSETTO:+0000
TZNAME:WET
DTSTART:20241027T010000
END:STANDARD
END:VTIMEZONE
BEGIN:VEVENT
DTSTART;TZID=Europe/Lisbon:20241002T090000
DTEND;TZID=Europe/Lisbon:20241002T110000
DTSTAMP:20260424T203353
CREATED:20240925T090427Z
LAST-MODIFIED:20240925T092457Z
UID:26634-1727859600-1727866800@plataformamulheres.org.pt
SUMMARY:Evento UPR com ONGs e corpo diplomático
DESCRIPTION:Conta com a participação da Plataforma Portuguesa para os Direitos das Mulheres (PpDM)\, a convite da Embaixada do Canadá em Lisboa. \nConheça aqui o relatório submetido pela PpDM.
URL:https://plataformamulheres.org.pt/evento/evento-upr-com-ongs-e-corpo-diplomatico/
LOCATION:Embaixada do Canadá em Lisboa\, Av. da Liberdade\, 196-200\, Lisboa\, 1269-121\, Portugal
END:VEVENT
END:VCALENDAR