BEGIN:VCALENDAR
VERSION:2.0
PRODID:-//Plataforma Portuguesa para os Direitos das Mulheres - ECPv5.14.0.4//NONSGML v1.0//EN
CALSCALE:GREGORIAN
METHOD:PUBLISH
X-WR-CALNAME:Plataforma Portuguesa para os Direitos das Mulheres
X-ORIGINAL-URL:https://plataformamulheres.org.pt
X-WR-CALDESC:Events for Plataforma Portuguesa para os Direitos das Mulheres
BEGIN:VTIMEZONE
TZID:UTC
BEGIN:STANDARD
TZOFFSETFROM:+0000
TZOFFSETTO:+0000
TZNAME:UTC
DTSTART:20180101T000000
END:STANDARD
END:VTIMEZONE
BEGIN:VEVENT
DTSTART;TZID=UTC:20180731T080000
DTEND;TZID=UTC:20180915T170000
DTSTAMP:20260419T231920
CREATED:20180807T090846Z
LAST-MODIFIED:20180807T090933Z
UID:9628-1533024000-1537030800@plataformamulheres.org.pt
SUMMARY:CooLabora: concurso de fotografia ECCE HOMO
DESCRIPTION:A CooLabora está a promover o concurso de fotografia Ecce Homo sobre a participação dos homens na vida quotidiana e pretende construir uma exposição com base nas propostas apresentadas ao concurso e seleccionadas pelo júri. \nOs trabalhos\, no seu conjunto\, deverão ser um estímulo à reflexão sobre a desigual participação dos homens na esfera privada\, de forma a inspirarem e reforçarem outras masculinidades\, mais autónomas e mais consentâneas com uma vida social que reconheça a centralidade das actividades ligadas ao cuidado de si e das outras pessoas na qualidade de vida quotidiana.\nEntre os aspectos relativos à participação dos homens na esfera privada relevantes para o concurso estão\, a título meramente indicativo\, tarefas domésticas (cozinhar\, estender roupa\, …) e de cuidados com terceiros (crianças\, pessoas idosas\, etc.). \nAs propostas devem ser submetidas até 15 de setembro através do endereço fotografia.eccehomo@gmail.com \nSerão atribuídos os seguintes prémios 1º Classificado/a: 350 €; 2º Classificado/a 250 €; 3º Classificado/a 100€
URL:https://plataformamulheres.org.pt/evento/coolabora-concurso-de-fotografia-ecce-homo/
LOCATION:COOLABORA\, Rua Combatentes\, 62\, Covilhã\, Portugal
CATEGORIES:Organizações-Membro
ATTACH;FMTTYPE=image/png:https://plataformamulheres.org.pt/site/wp-content/ficheiros/2018/08/ecce_homo_flyer_solo_txt.png
END:VEVENT
END:VCALENDAR