BEGIN:VCALENDAR
VERSION:2.0
PRODID:-//Plataforma Portuguesa para os Direitos das Mulheres - ECPv5.14.0.4//NONSGML v1.0//EN
CALSCALE:GREGORIAN
METHOD:PUBLISH
X-WR-CALNAME:Plataforma Portuguesa para os Direitos das Mulheres
X-ORIGINAL-URL:https://plataformamulheres.org.pt
X-WR-CALDESC:Events for Plataforma Portuguesa para os Direitos das Mulheres
BEGIN:VTIMEZONE
TZID:UTC
BEGIN:STANDARD
TZOFFSETFROM:+0000
TZOFFSETTO:+0000
TZNAME:UTC
DTSTART:20160101T000000
END:STANDARD
END:VTIMEZONE
BEGIN:VEVENT
DTSTART;TZID=UTC:20161208T143000
DTEND;TZID=UTC:20161208T163000
DTSTAMP:20260422T190827
CREATED:20161209T104331Z
LAST-MODIFIED:20161209T104331Z
UID:11210-1481207400-1481214600@plataformamulheres.org.pt
SUMMARY:Conselho de Administração da AFEM
DESCRIPTION:
URL:https://plataformamulheres.org.pt/evento/conselho-de-administracao-da-afem-2/
LOCATION:Skype
END:VEVENT
END:VCALENDAR