BEGIN:VCALENDAR
VERSION:2.0
PRODID:-//Plataforma Portuguesa para os Direitos das Mulheres - ECPv5.14.0.4//NONSGML v1.0//EN
CALSCALE:GREGORIAN
METHOD:PUBLISH
X-WR-CALNAME:Plataforma Portuguesa para os Direitos das Mulheres
X-ORIGINAL-URL:https://plataformamulheres.org.pt
X-WR-CALDESC:Events for Plataforma Portuguesa para os Direitos das Mulheres
BEGIN:VTIMEZONE
TZID:UTC
BEGIN:STANDARD
TZOFFSETFROM:+0000
TZOFFSETTO:+0000
TZNAME:UTC
DTSTART:20180101T000000
END:STANDARD
END:VTIMEZONE
BEGIN:VEVENT
DTSTART;TZID=UTC:20181126T163000
DTEND;TZID=UTC:20181126T180000
DTSTAMP:20260423T214633
CREATED:20181120T213529Z
LAST-MODIFIED:20181120T213541Z
UID:10028-1543249800-1543255200@plataformamulheres.org.pt
SUMMARY:Coimbra: Marcha pelo fim da violência contra as mulheres
DESCRIPTION:
URL:https://plataformamulheres.org.pt/evento/coimbra-marcha-pelo-fim-da-violencia-contra-as-mulheres/
LOCATION:Praça da República\, Coimbra\, 3000-305\, Portugal
CATEGORIES:Organizações-Membro,PpDM
ATTACH;FMTTYPE=image/jpeg:https://plataformamulheres.org.pt/site/wp-content/ficheiros/2018/11/Marcha-Coimbra.jpg
END:VEVENT
END:VCALENDAR