BEGIN:VCALENDAR
VERSION:2.0
PRODID:-//Plataforma Portuguesa para os Direitos das Mulheres - ECPv5.14.0.4//NONSGML v1.0//EN
CALSCALE:GREGORIAN
METHOD:PUBLISH
X-WR-CALNAME:Plataforma Portuguesa para os Direitos das Mulheres
X-ORIGINAL-URL:https://plataformamulheres.org.pt
X-WR-CALDESC:Events for Plataforma Portuguesa para os Direitos das Mulheres
BEGIN:VTIMEZONE
TZID:Europe/Lisbon
BEGIN:DAYLIGHT
TZOFFSETFROM:+0000
TZOFFSETTO:+0100
TZNAME:WEST
DTSTART:20230326T010000
END:DAYLIGHT
BEGIN:STANDARD
TZOFFSETFROM:+0100
TZOFFSETTO:+0000
TZNAME:WET
DTSTART:20231029T010000
END:STANDARD
END:VTIMEZONE
BEGIN:VEVENT
DTSTART;TZID=Europe/Lisbon:20231103T093000
DTEND;TZID=Europe/Lisbon:20231103T120000
DTSTAMP:20260423T100151
CREATED:20231031T104512Z
LAST-MODIFIED:20231031T104526Z
UID:24588-1699003800-1699012800@plataformamulheres.org.pt
SUMMARY:CES CEPES | 3ª versão Parecer OE 2024
DESCRIPTION:
URL:https://plataformamulheres.org.pt/evento/ces-cepes-3a-versao-parecer-oe-2024/
ATTACH;FMTTYPE=image/png:https://plataformamulheres.org.pt/site/wp-content/ficheiros/2018/10/ces.png
END:VEVENT
END:VCALENDAR