BEGIN:VCALENDAR
VERSION:2.0
PRODID:-//Plataforma Portuguesa para os Direitos das Mulheres - ECPv5.14.0.4//NONSGML v1.0//EN
CALSCALE:GREGORIAN
METHOD:PUBLISH
X-WR-CALNAME:Plataforma Portuguesa para os Direitos das Mulheres
X-ORIGINAL-URL:https://plataformamulheres.org.pt
X-WR-CALDESC:Events for Plataforma Portuguesa para os Direitos das Mulheres
BEGIN:VTIMEZONE
TZID:UTC
BEGIN:STANDARD
TZOFFSETFROM:+0000
TZOFFSETTO:+0000
TZNAME:UTC
DTSTART:20180101T000000
END:STANDARD
END:VTIMEZONE
BEGIN:VEVENT
DTSTART;TZID=UTC:20181116T150000
DTEND;TZID=UTC:20181116T170000
DTSTAMP:20260423T131643
CREATED:20190101T164458Z
LAST-MODIFIED:20190101T164458Z
UID:10190-1542380400-1542387600@plataformamulheres.org.pt
SUMMARY:Centro Maria Alzira Lemos | Casa das Associações - visita de "Defesa da Mulher" do Brasil
DESCRIPTION:Visita de Jo Ramos da Associação “Defesa da Mulher” do Brasil.
URL:https://plataformamulheres.org.pt/evento/centro-maria-alzira-lemos-casa-das-associacoes-visita-de-defesa-da-mulher-do-brasil/
LOCATION:Casa das Associações – Centro Maria Alzira Lemos\, Parque do Alvito\, Monsanto\, Lisboa\, 1300-054\, Portugal
CATEGORIES:PpDM
ATTACH;FMTTYPE=image/jpeg:https://plataformamulheres.org.pt/site/wp-content/ficheiros/2018/12/cda-700x329.jpg
END:VEVENT
END:VCALENDAR