BEGIN:VCALENDAR
VERSION:2.0
PRODID:-//Plataforma Portuguesa para os Direitos das Mulheres - ECPv5.14.0.4//NONSGML v1.0//EN
CALSCALE:GREGORIAN
METHOD:PUBLISH
X-WR-CALNAME:Plataforma Portuguesa para os Direitos das Mulheres
X-ORIGINAL-URL:https://plataformamulheres.org.pt
X-WR-CALDESC:Events for Plataforma Portuguesa para os Direitos das Mulheres
BEGIN:VTIMEZONE
TZID:Europe/Lisbon
BEGIN:DAYLIGHT
TZOFFSETFROM:+0000
TZOFFSETTO:+0100
TZNAME:WEST
DTSTART:20240331T010000
END:DAYLIGHT
BEGIN:STANDARD
TZOFFSETFROM:+0100
TZOFFSETTO:+0000
TZNAME:WET
DTSTART:20241027T010000
END:STANDARD
END:VTIMEZONE
BEGIN:VEVENT
DTSTART;VALUE=DATE:20241021
DTEND;VALUE=DATE:20241023
DTSTAMP:20260424T041728
CREATED:20240701T145351Z
LAST-MODIFIED:20241014T113103Z
UID:26301-1729468800-1729641599@plataformamulheres.org.pt
SUMMARY:B+30 “Reviewing 30 years of Beijing Commitments to Accelerate Gender  Equality in the ECE Region”
DESCRIPTION:Programa completo disponível aqui. \nA Plataforma Portuguesa para os Direitos das Mulheres (PpDM) estará representada por Ana Sofia Fernandes\, Alexandra Silva\, Diana Pinto e Maria Sepúlveda. \n 
URL:https://plataformamulheres.org.pt/evento/beijing-30-regional-review-meeting-entitled-reviewing-30-years-of-beijing-commitments-to-accelerate-gender-equality-in-the-ece-region/
ATTACH;FMTTYPE=image/jpeg:https://plataformamulheres.org.pt/site/wp-content/ficheiros/2024/07/B_30_RRM_banner-rev.jpg
END:VEVENT
END:VCALENDAR