BEGIN:VCALENDAR
VERSION:2.0
PRODID:-//Plataforma Portuguesa para os Direitos das Mulheres - ECPv5.14.0.4//NONSGML v1.0//EN
CALSCALE:GREGORIAN
METHOD:PUBLISH
X-WR-CALNAME:Plataforma Portuguesa para os Direitos das Mulheres
X-ORIGINAL-URL:https://plataformamulheres.org.pt
X-WR-CALDESC:Events for Plataforma Portuguesa para os Direitos das Mulheres
BEGIN:VTIMEZONE
TZID:Europe/Lisbon
BEGIN:DAYLIGHT
TZOFFSETFROM:+0000
TZOFFSETTO:+0100
TZNAME:WEST
DTSTART:20240331T010000
END:DAYLIGHT
BEGIN:STANDARD
TZOFFSETFROM:+0100
TZOFFSETTO:+0000
TZNAME:WET
DTSTART:20241027T010000
END:STANDARD
END:VTIMEZONE
BEGIN:VEVENT
DTSTART;TZID=Europe/Lisbon:20241007T143000
DTEND;TZID=Europe/Lisbon:20241007T153000
DTSTAMP:20260424T170020
CREATED:20241008T100540Z
LAST-MODIFIED:20241008T100540Z
UID:26675-1728311400-1728315000@plataformamulheres.org.pt
SUMMARY:Audiência com o GP PSD
DESCRIPTION:Online.
URL:https://plataformamulheres.org.pt/evento/audiencia-com-o-gp-psd/
END:VEVENT
END:VCALENDAR