BEGIN:VCALENDAR
VERSION:2.0
PRODID:-//Plataforma Portuguesa para os Direitos das Mulheres - ECPv5.14.0.4//NONSGML v1.0//EN
CALSCALE:GREGORIAN
METHOD:PUBLISH
X-WR-CALNAME:Plataforma Portuguesa para os Direitos das Mulheres
X-ORIGINAL-URL:https://plataformamulheres.org.pt
X-WR-CALDESC:Events for Plataforma Portuguesa para os Direitos das Mulheres
BEGIN:VTIMEZONE
TZID:UTC
BEGIN:STANDARD
TZOFFSETFROM:+0000
TZOFFSETTO:+0000
TZNAME:UTC
DTSTART:20190101T000000
END:STANDARD
END:VTIMEZONE
BEGIN:VEVENT
DTSTART;TZID=UTC:20190107T103000
DTEND;TZID=UTC:20190107T120000
DTSTAMP:20260423T161636
CREATED:20190102T130638Z
LAST-MODIFIED:20190102T130638Z
UID:10250-1546857000-1546862400@plataformamulheres.org.pt
SUMMARY:Audição no âmbito da preparação de uma Recomendação do Conselho Nacional de Educação sobre Educação e Formação de Adultos
DESCRIPTION:
URL:https://plataformamulheres.org.pt/evento/audicao-no-ambito-da-preparacao-de-uma-recomendacao-do-conselho-nacional-de-educacao-sobre-educacao-e-formacao-de-adultos/
CATEGORIES:PpDM
END:VEVENT
END:VCALENDAR