BEGIN:VCALENDAR
VERSION:2.0
PRODID:-//Plataforma Portuguesa para os Direitos das Mulheres - ECPv5.14.0.4//NONSGML v1.0//EN
CALSCALE:GREGORIAN
METHOD:PUBLISH
X-WR-CALNAME:Plataforma Portuguesa para os Direitos das Mulheres
X-ORIGINAL-URL:https://plataformamulheres.org.pt
X-WR-CALDESC:Events for Plataforma Portuguesa para os Direitos das Mulheres
BEGIN:VTIMEZONE
TZID:Europe/Lisbon
BEGIN:DAYLIGHT
TZOFFSETFROM:+0000
TZOFFSETTO:+0100
TZNAME:WEST
DTSTART:20200329T010000
END:DAYLIGHT
BEGIN:STANDARD
TZOFFSETFROM:+0100
TZOFFSETTO:+0000
TZNAME:WET
DTSTART:20201025T010000
END:STANDARD
END:VTIMEZONE
BEGIN:VEVENT
DTSTART;TZID=Europe/Lisbon:20200212T123000
DTEND;TZID=Europe/Lisbon:20200212T143000
DTSTAMP:20260423T095459
CREATED:20200130T110413Z
LAST-MODIFIED:20200130T110413Z
UID:14823-1581510600-1581517800@plataformamulheres.org.pt
SUMMARY:Almoço de trabalho com a Presidente da Federação Europeia das Soroptimist International
DESCRIPTION:
URL:https://plataformamulheres.org.pt/evento/almoco-de-trabalho-com-a-presidente-da-federacao-europeia-das-soroptimist-international/
LOCATION:Lisboa
END:VEVENT
END:VCALENDAR