BEGIN:VCALENDAR
VERSION:2.0
PRODID:-//Plataforma Portuguesa para os Direitos das Mulheres - ECPv5.14.0.4//NONSGML v1.0//EN
CALSCALE:GREGORIAN
METHOD:PUBLISH
X-WR-CALNAME:Plataforma Portuguesa para os Direitos das Mulheres
X-ORIGINAL-URL:https://plataformamulheres.org.pt
X-WR-CALDESC:Events for Plataforma Portuguesa para os Direitos das Mulheres
BEGIN:VTIMEZONE
TZID:UTC
BEGIN:STANDARD
TZOFFSETFROM:+0000
TZOFFSETTO:+0000
TZNAME:UTC
DTSTART:20160101T000000
END:STANDARD
END:VTIMEZONE
BEGIN:VEVENT
DTSTART;TZID=UTC:20161206T080000
DTEND;TZID=UTC:20161207T170000
DTSTAMP:20260422T222503
CREATED:20161204T111132Z
LAST-MODIFIED:20161204T111132Z
UID:7172-1481011200-1481130000@plataformamulheres.org.pt
SUMMARY:8ª Reunião da Plataforma da Sociedade Civil da UE Contra o Tráfico de Seres Humanos
DESCRIPTION:
URL:https://plataformamulheres.org.pt/evento/8a-reuniao-da-plataforma-da-sociedade-civil-da-ue-contra-o-trafico-de-seres-humanos/
LOCATION:Bruxelas\, Belgium
END:VEVENT
END:VCALENDAR