BEGIN:VCALENDAR
VERSION:2.0
PRODID:-//Plataforma Portuguesa para os Direitos das Mulheres - ECPv5.14.0.4//NONSGML v1.0//EN
CALSCALE:GREGORIAN
METHOD:PUBLISH
X-WR-CALNAME:Plataforma Portuguesa para os Direitos das Mulheres
X-ORIGINAL-URL:https://plataformamulheres.org.pt
X-WR-CALDESC:Events for Plataforma Portuguesa para os Direitos das Mulheres
BEGIN:VTIMEZONE
TZID:Europe/Lisbon
BEGIN:DAYLIGHT
TZOFFSETFROM:+0000
TZOFFSETTO:+0100
TZNAME:WEST
DTSTART:20240331T010000
END:DAYLIGHT
BEGIN:STANDARD
TZOFFSETFROM:+0100
TZOFFSETTO:+0000
TZNAME:WET
DTSTART:20241027T010000
END:STANDARD
END:VTIMEZONE
BEGIN:VEVENT
DTSTART;TZID=Europe/Lisbon:20241001T103000
DTEND;TZID=Europe/Lisbon:20241001T133500
DTSTAMP:20260424T202741
CREATED:20240917T092018Z
LAST-MODIFIED:20240917T092457Z
UID:26565-1727778600-1727789700@plataformamulheres.org.pt
SUMMARY:LEM: Evento de lançamento do Relatório sobre Ciberviolência
DESCRIPTION:Caros membros do LEM\, \nConvidamos para o evento de lançamento do LEM – Lobby Europeu das Mulheres\, no qual será apresentada a nova publicação do Relatório sobre Ciberviolência. O evento terá lugar em Bruxelas\, na terça-feira\, 01 de outubro\, no Thon Hotel EU\, com a possibilidade de participação online! \nAbaixo\, encontra-se uma breve descrição do evento e a agenda (hora da Bélgica): \n\nNa era da digitalização\, a incidência de ciberviolência contra mulheres e raparigas (CVAWG) está a aumentar. O surgimento de novas tecnologias\, particularmente das redes sociais\, transformou a forma como nos envolvemos e comunicamos online. À medida que a nossa identidade também se expressa online\, a ciberviolência contra as mulheres aparece como um continuum da violência contra as mulheres. Os mesmos estereótipos de género e misoginia que causam as formas já conhecidas de violência contra as mulheres manifestam-se online com novas formas e efeitos semelhantes. \nEste evento tem como objetivo o lançamento da publicação do Relatório do LEM sobre Ciberviolência\, que oferece uma visão geral das formas de CVAWG\, do quadro político e um conjunto de recomendações políticas para enfrentar o problema. \nO evento incluirá uma apresentação do Relatório\, com intervenções das principais autoras e coautoras\, seguida de uma mesa redonda sobre ciberviolência com especialistas académicas e decisoras de política. \nO objetivo final do evento é sensibilizar para a ciberviolência contra as mulheres e incentivar os/as decisoras/es de políticas da UE e a sociedade civil a agir contra a CVAW. \n\nAGENDA: \n10:30 – 10:45 Registo e Boas-vindas \n10:45 – 10:50 Observações introdutórias pela Presidente do LEM\, Iliana Balabanova \n10:50 – 11:10 Apresentação do Relatório: Virginia Dalla Pozza\, Especialista Sénior em Serviços Jurídicos e Políticos\, Autora do Relatório \n11:10 – 11:25 Recomendações da LEM: Maria João Faustino\, Membro do Comité Executivo do LEM \n11:25 – 12:15 Mesa-redonda sobre Ciberviolência \n\nMEP Evin Incir (S&D\, Suécia)\, Membro do Comité LIBE\nEleonora Esposito\, Especialista Nacional Destacada\, Oficial de Gestão de Casos na Unidade de Serviços Digitais da DG CNECT\nSilvia Simenzin\, Investigadora Pós-Doutoral em Sociologia Digital na Universidade de Informática de Madrid e Ativista de Direitos Humanos\nCatherine Van De Heyning\, Professora de Direitos Fundamentais Europeus na Universidade de Antuérpia\, Procuradora Pública\, Membro do Comité Consultivo de Especialistas do Conselho de Direitos Humanos da ONU\nVictoria Sarmiento Herrero\, Especialista em Assuntos Governamentais\, Microsoft12:15 – 12:35 Sessão de Perguntas e Respostas\n\n12:25 – 12:35 Conclusões pela Secretária-Geral do LEM\, Mary Collins\, sobre a Plataforma de Ação de Pequim e a Ciberviolência \n12:35 – 13:35 Almoço de Networking \nRegisto para inscrições presenciais: Event on the launch of EWL Report on Cyber Violence (In person) (google.com) \nRegisto para participação online: Event on the launch of EWL Report on Cyber Violence – online (google.com)
URL:https://plataformamulheres.org.pt/evento/26565/
ATTACH;FMTTYPE=image/gif:https://plataformamulheres.org.pt/site/wp-content/ficheiros/2024/07/EWL_LOGO.gif
END:VEVENT
END:VCALENDAR