BEGIN:VCALENDAR
VERSION:2.0
PRODID:-//Plataforma Portuguesa para os Direitos das Mulheres - ECPv5.14.0.4//NONSGML v1.0//EN
CALSCALE:GREGORIAN
METHOD:PUBLISH
X-WR-CALNAME:Plataforma Portuguesa para os Direitos das Mulheres
X-ORIGINAL-URL:https://plataformamulheres.org.pt
X-WR-CALDESC:Events for Plataforma Portuguesa para os Direitos das Mulheres
BEGIN:VTIMEZONE
TZID:Europe/Lisbon
BEGIN:DAYLIGHT
TZOFFSETFROM:+0000
TZOFFSETTO:+0100
TZNAME:WEST
DTSTART:20260329T010000
END:DAYLIGHT
BEGIN:STANDARD
TZOFFSETFROM:+0100
TZOFFSETTO:+0000
TZNAME:WET
DTSTART:20261025T010000
END:STANDARD
END:VTIMEZONE
BEGIN:VEVENT
DTSTART;TZID=Europe/Lisbon:20260414T113000
DTEND;TZID=Europe/Lisbon:20260414T163000
DTSTAMP:20260419T211359
CREATED:20260330T165115Z
LAST-MODIFIED:20260331T115830Z
UID:29767-1776166200-1776184200@plataformamulheres.org.pt
SUMMARY:10º Aniversário da Lei Abolicionista Francesa: 3 dias de diálogo\, mobilização e ação em Paris
DESCRIPTION:Nos dias 12\, 13 e 14 de abril de 2026\, a CAP International\, em conjunto com os seus membros franceses Mouvement du Nid e Fondation Scelles\, e com o apoio de 20 organizações feministas abolicionistas francesas do Coletivo Abolicionista\, organiza em Paris três dias de eventos para assinalar e celebrar os 10 anos da lei abolicionista francesa. \nConferência “Exiting the Prostitution System: Grassroots Voices”Cité Audacieuse\, ParisEncontro centrado nas vozes de sobreviventes e organizações de base\, com foco nas experiências e desafios associados à saída do sistema da prostituição. \n\nInscrição presencial: [link de inscrição]\n\n 
URL:https://plataformamulheres.org.pt/evento/10o-aniversario-da-lei-abolicionista-francesa-3-dias-de-dialogo-mobilizacao-e-acao-em-paris-2/
END:VEVENT
END:VCALENDAR